BEGIN:VCALENDAR
VERSION:2.0
PRODID:-//Liz Figueroa Lenormand - ECPv6.15.20//NONSGML v1.0//EN
CALSCALE:GREGORIAN
METHOD:PUBLISH
X-ORIGINAL-URL:https://lizfigueroalenormand.com
X-WR-CALDESC:Events for Liz Figueroa Lenormand
REFRESH-INTERVAL;VALUE=DURATION:PT1H
X-Robots-Tag:noindex
X-PUBLISHED-TTL:PT1H
BEGIN:VTIMEZONE
TZID:UTC
BEGIN:STANDARD
TZOFFSETFROM:+0000
TZOFFSETTO:+0000
TZNAME:UTC
DTSTART:20200101T000000
END:STANDARD
END:VTIMEZONE
BEGIN:VTIMEZONE
TZID:UTC
BEGIN:STANDARD
TZOFFSETFROM:+0000
TZOFFSETTO:+0000
TZNAME:UTC
DTSTART:20200101T000000
END:STANDARD
END:VTIMEZONE
BEGIN:VEVENT
DTSTART;TZID=UTC:20211107T100000
DTEND;TZID=UTC:20211107T140000
DTSTAMP:20260424T002003
CREATED:20210320T204606Z
LAST-MODIFIED:20211013T055955Z
UID:374-1636279200-1636293600@lizfigueroalenormand.com
SUMMARY:Using Lenormand to search Akashie Records
DESCRIPTION:Special presentation of using Lenormand to search Akashie Records. With Juan Manuel Martinez and Liz Figueroa.
URL:https://lizfigueroalenormand.com/event/event-testing-number-2-event/
LOCATION:Online\, United States
CATEGORIES:Informacion Espiritual,Informacion General
ATTACH;FMTTYPE=image/jpeg:https://lizfigueroalenormand.com/wp-content/uploads/2021/03/wings-2595714_640.jpg
END:VEVENT
BEGIN:VEVENT
DTSTART;TZID=UTC:20210601T080000
DTEND;TZID=UTC:20210601T170000
DTSTAMP:20260424T002003
CREATED:20210426T201951Z
LAST-MODIFIED:20210426T203418Z
UID:1468-1622534400-1622566800@lizfigueroalenormand.com
SUMMARY:How to add an event
DESCRIPTION:Creating for directions for Liz
URL:https://lizfigueroalenormand.com/event/how-to-add-an-event/
LOCATION:Online\, United States
ATTACH;FMTTYPE=image/jpeg:https://lizfigueroalenormand.com/wp-content/uploads/2021/04/truck.jpg
END:VEVENT
END:VCALENDAR