BEGIN:VCALENDAR
VERSION:2.0
PRODID:-//Liz Figueroa Lenormand - ECPv6.15.20//NONSGML v1.0//EN
CALSCALE:GREGORIAN
METHOD:PUBLISH
X-WR-CALNAME:Liz Figueroa Lenormand
X-ORIGINAL-URL:https://lizfigueroalenormand.com
X-WR-CALDESC:Events for Liz Figueroa Lenormand
REFRESH-INTERVAL;VALUE=DURATION:PT1H
X-Robots-Tag:noindex
X-PUBLISHED-TTL:PT1H
BEGIN:VTIMEZONE
TZID:America/Chicago
BEGIN:DAYLIGHT
TZOFFSETFROM:-0600
TZOFFSETTO:-0500
TZNAME:CDT
DTSTART:20220313T080000
END:DAYLIGHT
BEGIN:STANDARD
TZOFFSETFROM:-0500
TZOFFSETTO:-0600
TZNAME:CST
DTSTART:20221106T070000
END:STANDARD
BEGIN:DAYLIGHT
TZOFFSETFROM:-0600
TZOFFSETTO:-0500
TZNAME:CDT
DTSTART:20230312T080000
END:DAYLIGHT
BEGIN:STANDARD
TZOFFSETFROM:-0500
TZOFFSETTO:-0600
TZNAME:CST
DTSTART:20231105T070000
END:STANDARD
BEGIN:DAYLIGHT
TZOFFSETFROM:-0600
TZOFFSETTO:-0500
TZNAME:CDT
DTSTART:20240310T080000
END:DAYLIGHT
BEGIN:STANDARD
TZOFFSETFROM:-0500
TZOFFSETTO:-0600
TZNAME:CST
DTSTART:20241103T070000
END:STANDARD
BEGIN:DAYLIGHT
TZOFFSETFROM:-0600
TZOFFSETTO:-0500
TZNAME:CDT
DTSTART:20250309T080000
END:DAYLIGHT
BEGIN:STANDARD
TZOFFSETFROM:-0500
TZOFFSETTO:-0600
TZNAME:CST
DTSTART:20251102T070000
END:STANDARD
BEGIN:DAYLIGHT
TZOFFSETFROM:-0600
TZOFFSETTO:-0500
TZNAME:CDT
DTSTART:20260308T080000
END:DAYLIGHT
BEGIN:STANDARD
TZOFFSETFROM:-0500
TZOFFSETTO:-0600
TZNAME:CST
DTSTART:20261101T070000
END:STANDARD
END:VTIMEZONE
BEGIN:VTIMEZONE
TZID:UTC
BEGIN:STANDARD
TZOFFSETFROM:+0000
TZOFFSETTO:+0000
TZNAME:UTC
DTSTART:20200101T000000
END:STANDARD
END:VTIMEZONE
BEGIN:VEVENT
DTSTART;TZID=America/Chicago:20250309T080000
DTEND;TZID=America/Chicago:20250309T170000
DTSTAMP:20260423T163336
CREATED:20250208T210548Z
LAST-MODIFIED:20250208T210548Z
UID:4233-1741507200-1741539600@lizfigueroalenormand.com
SUMMARY:Blog "El Esoterismo en Redes Sociales: Entre Iluminados\, Guerreros y Mártires"
DESCRIPTION:🌙✨ El mundo del esoterismo en redes sociales es un campo de batalla digital donde abundan los iluminados supremos\, guerreros espirituales y mártires del conocimiento oculto. Pero\, ¿qué hay detrás de todo esto? \n📲 ¿Cómo identificar a un verdadero guía espiritual de un showman del esoterismo?\n🔥 ¿Por qué hay tantas peleas y rivalidades en el mundo esotérico online?\n🧿 ¿Cómo navegar las redes sin caer en manipulaciones o falsas promesas? \nEn este blog gratuito\, analizaremos con humor y lógica el fenómeno del esoterismo en redes sociales\, desglosando los arquetipos más comunes y cómo no perderse en la niebla digital. \n📅 Disponible el domingo 9 de marzo de 2025 en la sección de blog de mi página web Liz Figueroa Lenormand: lizfigueroalenormand.com. \n🔮 ¡No te lo pierdas\, porque el drama esotérico está servido!
URL:https://lizfigueroalenormand.com/event/blog-el-esoterismo-en-redes-sociales-entre-iluminados-guerreros-y-martires/
CATEGORIES:Blog Esoterico,Informacion Espiritual,Informacion General,Informacion Lenormand
ATTACH;FMTTYPE=image/jpeg:https://lizfigueroalenormand.com/wp-content/uploads/2025/03/BLOGS-Derechos-Reservados-@Liz-Figueroa-Lenormand-2024-44.jpg
END:VEVENT
BEGIN:VEVENT
DTSTART;TZID=America/Chicago:20250216T080000
DTEND;TZID=America/Chicago:20250216T170000
DTSTAMP:20260423T163336
CREATED:20250208T205315Z
LAST-MODIFIED:20250208T205614Z
UID:4225-1739692800-1739725200@lizfigueroalenormand.com
SUMMARY:Nuevo Blog "El Jinete en el Lenormand"
DESCRIPTION:El Jinete es la carta número 1 del Lenormand y trae consigo movimiento\, noticias y oportunidades. Pero\, ¿cómo interpretarlo realmente en una lectura? \n🏇 ¿Siempre significa noticias o puede representar algo más?\n💨 ¿Qué pasa cuando aparece en una lectura sobre relaciones\, trabajo o salud?\n🔄 ¿Cómo influye su combinación con otras cartas? \nEn este blog gratuito exploraremos todas las facetas del Jinete en el Lenormand\, desde su simbolismo hasta su aplicación en diferentes áreas de la vida. \n📅 Disponible el domingo 16 de febrero de 2025 en la sección de blog de mi página web Liz Figueroa Lenormand: lizfigueroalenormand.com. \n¡No te lo pierdas!
URL:https://lizfigueroalenormand.com/event/nuevo-blog-el-jinete-en-el-lenormand/
CATEGORIES:Blog Esoterico,Cartas Lenormand,Informacion Espiritual,Informacion General,Lecturas Lenormand
ATTACH;FMTTYPE=image/jpeg:https://lizfigueroalenormand.com/wp-content/uploads/2025/02/BLOGS-Derechos-Reservados-@Liz-Figueroa-Lenormand-2024-40.jpg
END:VEVENT
BEGIN:VEVENT
DTSTART;TZID=America/Chicago:20250209T080000
DTEND;TZID=America/Chicago:20250209T170000
DTSTAMP:20260423T163336
CREATED:20250208T204625Z
LAST-MODIFIED:20250208T211802Z
UID:4223-1739088000-1739120400@lizfigueroalenormand.com
SUMMARY:Nuevo Blog: "Maestros y Estudiantes de Cartomancia"
DESCRIPTION:Fecha del Evento:\n Domingo\, 9 de febrero de 2025 \nDescripción:\nEl mundo de la cartomancia no solo se trata de leer cartas\, sino también de la relación entre maestros y estudiantes. En este blog exploramos: \n ¿Qué hace a un buen maestro de cartomancia?\n ¿Cómo los estudiantes pueden aprovechar al máximo su aprendizaje?\n✨ Diferencias entre enseñar y simplemente dar información. \nEste blog gratuito estará disponible el domingo 9 de febrero. ¡No te lo pierdas y descubre cómo mejorar tu camino en la cartomancia! \n Visítanos en {site_url} para leer más \nImagen Destacada:
URL:https://lizfigueroalenormand.com/event/nuevo-blog-maestros-y-estudiantes-de-cartomancia/
CATEGORIES:Blog Esoterico,Informacion Espiritual,Informacion General
ATTACH;FMTTYPE=image/jpeg:https://lizfigueroalenormand.com/wp-content/uploads/2025/02/BLOGS-Derechos-Reservados-@Liz-Figueroa-Lenormand-2024-35.jpg
END:VEVENT
BEGIN:VEVENT
DTSTART;TZID=America/Chicago:20231029T170000
DTEND;TZID=America/Chicago:20231029T180000
DTSTAMP:20260423T163336
CREATED:20230831T005710Z
LAST-MODIFIED:20230831T005710Z
UID:3311-1698598800-1698602400@lizfigueroalenormand.com
SUMMARY:Congreso Internacional de Mediumnidad
DESCRIPTION:Este otoño\, el Congreso Internacional de Mediumnidad se complace en presentar una ponencia única y reveladora: “Mediumnidad a través del Lenormand”\, dirigida por Liz Figueroa\, Maestra del Oráculo Lenormand y experta en diseño digital. ¿Estás listo para explorar cómo las cartas Lenormand pueden enriquecer tu práctica de la mediumnidad? ¡Entonces esta sesión es para ti! \nObjetivos de la Ponencia:\n\nExploración entre la Mediumnidad y el Lenormand:\n\n\nObjetivo 1.1: ¿Alguna vez te has preguntado cómo las cartas Lenormand podrían complementar tu trabajo como médium? Introduciremos la conexión simbiótica entre estas dos artes espirituales\, mostrando cómo pueden realzar y validar una a la otra.\n\n\nDefinición de Mediumnidad Evidencial:\n\n\nObjetivo 2.1: En el vasto campo de la mediumnidad\, el enfoque evidencial se destaca por su rigor y autenticidad. Proporcionaremos una definición clara de qué es la mediumnidad evidencial y cómo se centra en identificar y validar la presencia de espíritus.\n\n\nProtocolos de Mediumnidad Evidencial:\n\n\nObjetivo 2.2: Profundizaremos en los elementos fundamentales de la mediumnidad evidencial\, desde la identificación de género y descripción de personaje hasta cómo entregar mensajes de manera ética y empática.\n\n\nFormatos de Tiradas Prácticas:\n\n\nObjetivo 4.1: No todas las tiradas de cartas son iguales\, especialmente cuando se trata de mediumnidad. Presentaremos distintos formatos de tiradas Lenormand\, adaptados específicamente para la práctica de la mediumnidad evidencial.\n\nSi te apasionan tanto las cartas como el mundo espiritual\, no querrás perderte esta ponencia. Uniremos dos universos aparentemente distintos pero intrínsecamente conectados para abrir puertas a nuevas posibilidades en tu práctica espiritual. \nTe esperamos en octubre en el Congreso Internacional de Mediumnidad para una exploración profunda e inspiradora. ¡Trae tu mazo de Lenormand y una mente abierta!
URL:https://lizfigueroalenormand.com/event/congreso-internacional-de-mediumnidad/
LOCATION:Online\, United States
CATEGORIES:Congreso Esotericos,Eventos Especiales,Informacion Espiritual,Mediumnidad
ATTACH;FMTTYPE=image/jpeg:https://lizfigueroalenormand.com/wp-content/uploads/2023/08/Congreso-Mediumnidad-e1693443120557.jpg
END:VEVENT
BEGIN:VEVENT
DTSTART;TZID=America/Chicago:20230905T120000
DTEND;TZID=America/Chicago:20230905T130000
DTSTAMP:20260423T163336
CREATED:20230831T010742Z
LAST-MODIFIED:20230831T010742Z
UID:3316-1693915200-1693918800@lizfigueroalenormand.com
SUMMARY:PODCAST: "Cada Maestro con Su Librillo"
DESCRIPTION:“¿Alguna vez te has preguntado por qué hay tantos estilos y métodos en el mundo de la cartomancia? Acompaña a Maestra Liz mientras explora la riqueza de esta diversidad y cómo encontrar tu propia voz en el vasto universo del Tarot\, el Lenormand\, y más. Este episodio es un llamado a abrazar la singularidad en tu camino espiritual.” \nsuscríbete a mi Podcast para que no te pierdas ningun episodio!\n”Cada Maestro con su Librillo” | Liz Figueroa Lenormand (podbean.com) \n#MaestroLibrillo\, #ConocimientoEsoterico\, #SabiduriaLenormand\, #GuiasEspirituales
URL:https://lizfigueroalenormand.com/event/podcast-cada-maestro-con-su-librillo/
CATEGORIES:Informacion Espiritual,PODCAST
ATTACH;FMTTYPE=image/jpeg:https://lizfigueroalenormand.com/wp-content/uploads/2023/08/Purple-Modern-Podcast-1-scaled.jpg
END:VEVENT
BEGIN:VEVENT
DTSTART;TZID=America/Chicago:20230122T080000
DTEND;TZID=America/Chicago:20230122T110000
DTSTAMP:20260423T163336
CREATED:20221120T134335Z
LAST-MODIFIED:20221120T201806Z
UID:2843-1674374400-1674385200@lizfigueroalenormand.com
SUMMARY:Taller Descubre tus Dones Espirituales
DESCRIPTION:Este Taller\, sera el 2ndo que se facilita sobre este tema. En este taller se te dara la informacion terminologica de aspectos espirituales relacionados con los dones o habilidades espirituales y se te ensenara un metodo de tirada Lenormand\, para descubrir el grado de cada uno de estos dones\, mediantes tus sensores fisicos. Este taller es categorizado como un taller tecnico y de uso racional/conciente sobre tu propio desarrollo espiritual\, mediante practicas de Lenormand. Todo el material de tecnicas es original de Liz Figueroa y esta registrado legalmente como tal. Derechos de autor son reservados\, por tanto la divulgacion\, copia o plagio de este\, sera una violacion a derecho de autor.\nDemostrando:\n\nQue dones son mas fuertes\, medianos o debiles\nComo estos interactuan entre si y como se compesan o se restan a si mismo.\nTodo esto conjunto con observar\, como efectos exteriores como por ejemplo; actividad mental\, humor y clima pueda afectar estos dones.\n\nEste taller consta con aproximadamente:\n\n5 PDF de informacion (sobre 100 paginas)\nPlantillas de tirada para-Lenormand y plantilla de medicion con Pendulo\nPlantillas de hojas de trabajo.\n\nTambien se proveera para este taller:\n20 minutos personales por estudiante\, despues de demostrado el taller principal\, para verificar que el estudiante a entendido la consigna.\nNOTA IMPORTANTE: \n\nLa admicion a este taller sera mediante donacion monetaria via paypal\, antes de ingresar a este taller.\nEl cupo de estudiantes sera limitado a 20 estudiantes\nDespues del taller haber terminado\, se proveere 30 dias adicionales de taller para aclarar preguntas y dudas\, conjunto con practicas generales\, para acentuar conocimiento y practica de las tecnicas.\nEl estudiante tiene que tener consigo un Pendulo y un mazo de cartas Lenormand. \nEl estudante debe tener las aplicacion de Zoom y Telegram para tener acceso al taller.
URL:https://lizfigueroalenormand.com/event/el-lenormand-y-los-dones-espirituales/
LOCATION:Zoom Event\, WI\, United States
CATEGORIES:Informacion Espiritual,Informacion General,Informacion Lenormand,Mentoria Lenormand,Tiradas de Lenormand
ATTACH;FMTTYPE=image/jpeg:https://lizfigueroalenormand.com/wp-content/uploads/2022/10/Intro-Video-Taller-Descubriendo-tus-Dones-Espirituales.jpg
END:VEVENT
BEGIN:VEVENT
DTSTART;TZID=UTC:20211107T100000
DTEND;TZID=UTC:20211107T140000
DTSTAMP:20260423T163336
CREATED:20210320T204606Z
LAST-MODIFIED:20211013T055955Z
UID:374-1636279200-1636293600@lizfigueroalenormand.com
SUMMARY:Using Lenormand to search Akashie Records
DESCRIPTION:Special presentation of using Lenormand to search Akashie Records. With Juan Manuel Martinez and Liz Figueroa.
URL:https://lizfigueroalenormand.com/event/event-testing-number-2-event/
LOCATION:Online\, United States
CATEGORIES:Informacion Espiritual,Informacion General
ATTACH;FMTTYPE=image/jpeg:https://lizfigueroalenormand.com/wp-content/uploads/2021/03/wings-2595714_640.jpg
END:VEVENT
END:VCALENDAR