BEGIN:VCALENDAR
VERSION:2.0
PRODID:-//Liz Figueroa Lenormand - ECPv6.15.20//NONSGML v1.0//EN
CALSCALE:GREGORIAN
METHOD:PUBLISH
X-WR-CALNAME:Liz Figueroa Lenormand
X-ORIGINAL-URL:https://lizfigueroalenormand.com
X-WR-CALDESC:Events for Liz Figueroa Lenormand
REFRESH-INTERVAL;VALUE=DURATION:PT1H
X-Robots-Tag:noindex
X-PUBLISHED-TTL:PT1H
BEGIN:VTIMEZONE
TZID:America/Chicago
BEGIN:DAYLIGHT
TZOFFSETFROM:-0600
TZOFFSETTO:-0500
TZNAME:CDT
DTSTART:20230312T080000
END:DAYLIGHT
BEGIN:STANDARD
TZOFFSETFROM:-0500
TZOFFSETTO:-0600
TZNAME:CST
DTSTART:20231105T070000
END:STANDARD
BEGIN:DAYLIGHT
TZOFFSETFROM:-0600
TZOFFSETTO:-0500
TZNAME:CDT
DTSTART:20240310T080000
END:DAYLIGHT
BEGIN:STANDARD
TZOFFSETFROM:-0500
TZOFFSETTO:-0600
TZNAME:CST
DTSTART:20241103T070000
END:STANDARD
BEGIN:DAYLIGHT
TZOFFSETFROM:-0600
TZOFFSETTO:-0500
TZNAME:CDT
DTSTART:20250309T080000
END:DAYLIGHT
BEGIN:STANDARD
TZOFFSETFROM:-0500
TZOFFSETTO:-0600
TZNAME:CST
DTSTART:20251102T070000
END:STANDARD
BEGIN:DAYLIGHT
TZOFFSETFROM:-0600
TZOFFSETTO:-0500
TZNAME:CDT
DTSTART:20260308T080000
END:DAYLIGHT
BEGIN:STANDARD
TZOFFSETFROM:-0500
TZOFFSETTO:-0600
TZNAME:CST
DTSTART:20261101T070000
END:STANDARD
END:VTIMEZONE
BEGIN:VEVENT
DTSTART;TZID=America/Chicago:20250209T080000
DTEND;TZID=America/Chicago:20250209T170000
DTSTAMP:20260423T163638
CREATED:20250208T204625Z
LAST-MODIFIED:20250208T211802Z
UID:4223-1739088000-1739120400@lizfigueroalenormand.com
SUMMARY:Nuevo Blog: "Maestros y Estudiantes de Cartomancia"
DESCRIPTION:Fecha del Evento:\n Domingo\, 9 de febrero de 2025 \nDescripción:\nEl mundo de la cartomancia no solo se trata de leer cartas\, sino también de la relación entre maestros y estudiantes. En este blog exploramos: \n ¿Qué hace a un buen maestro de cartomancia?\n ¿Cómo los estudiantes pueden aprovechar al máximo su aprendizaje?\n✨ Diferencias entre enseñar y simplemente dar información. \nEste blog gratuito estará disponible el domingo 9 de febrero. ¡No te lo pierdas y descubre cómo mejorar tu camino en la cartomancia! \n Visítanos en {site_url} para leer más \nImagen Destacada:
URL:https://lizfigueroalenormand.com/event/nuevo-blog-maestros-y-estudiantes-de-cartomancia/
CATEGORIES:Blog Esoterico,Informacion Espiritual,Informacion General
ATTACH;FMTTYPE=image/jpeg:https://lizfigueroalenormand.com/wp-content/uploads/2025/02/BLOGS-Derechos-Reservados-@Liz-Figueroa-Lenormand-2024-35.jpg
END:VEVENT
BEGIN:VEVENT
DTSTART;TZID=America/Chicago:20240909T064400
DTEND;TZID=America/Chicago:20240909T170000
DTSTAMP:20260423T163638
CREATED:20240819T131527Z
LAST-MODIFIED:20240819T132550Z
UID:3803-1725864240-1725901200@lizfigueroalenormand.com
SUMMARY:Nuevo Blog! ¿Te Han Robado Contenido? Mi Anécdota y Plan de Protección
DESCRIPTION:¿Alguna vez has creado un material literario o tomado una foto espectacular para compartir con el mundo\, solo para descubrir que alguien más ha robado tu contenido y lo ha reclamado como propio? Esta situación no solo es frustrante\, sino que también desmotiva a cualquiera que pone esfuerzo\, creatividad y pasión en su trabajo. Lamentablemente\, en la era digital\, el plagio y el uso no autorizado de contenido se han vuelto problemas comunes\, especialmente en comunidades donde se comparten conocimientos y experiencias\, como la cartomancia.
URL:https://lizfigueroalenormand.com/event/nuevo-blog-te-han-robado-contenido-mi-anecdota-y-plan-de-proteccion/
CATEGORIES:Blog Esoterico,Informacion General,Informacion Lenormand
ATTACH;FMTTYPE=image/jpeg:https://lizfigueroalenormand.com/wp-content/uploads/2024/08/BLOGS-Derechos-Reservados-@Liz-Figueroa-Lenormand-2024-19.jpg
END:VEVENT
BEGIN:VEVENT
DTSTART;TZID=America/Chicago:20240901T080000
DTEND;TZID=America/Chicago:20240901T170000
DTSTAMP:20260423T163638
CREATED:20240816T000805Z
LAST-MODIFIED:20240816T000805Z
UID:3765-1725177600-1725210000@lizfigueroalenormand.com
SUMMARY:Nuevo Blog! "La Cruda Verdad de Convertirse en Cartomante Profesional: ¿Estás Realmente Listo?"
DESCRIPTION:Este blog explora los desafíos y realidades de dar el salto de aficionado a cartomante profesional. Abordamos lo que realmente significa ser un cartomante profesional\, los errores comunes que sabotean a los novatos\, y te proporcionamos una estrategia paso a paso para construir una práctica sólida y sostenible. Si estás considerando profesionalizarte\, este blog te dará la perspectiva que necesitas para tomar decisiones informadas. ¡Apunta la fecha y no te lo pierdas!
URL:https://lizfigueroalenormand.com/event/nuevo-blog-la-cruda-verdad-de-convertirse-en-cartomante-profesional-estas-realmente-listo/
CATEGORIES:Blog Esoterico,Informacion General,Informacion Lenormand
ATTACH;FMTTYPE=image/jpeg:https://lizfigueroalenormand.com/wp-content/uploads/2024/08/BLOGS-Derechos-Reservados-@Liz-Figueroa-Lenormand-2024-18.jpg
END:VEVENT
BEGIN:VEVENT
DTSTART;TZID=America/Chicago:20240824T080000
DTEND;TZID=America/Chicago:20240824T170000
DTSTAMP:20260423T163638
CREATED:20240816T001235Z
LAST-MODIFIED:20240816T001235Z
UID:3767-1724486400-1724518800@lizfigueroalenormand.com
SUMMARY:Nuevo Blog! Tarot y Lenormand: ¿Son Realmente lo Mismo?
DESCRIPTION:En el mundo de la cartomancia\, es fácil confundir sistemas\, especialmente cuando términos como “Tarot Lenormand” se usan de manera errónea. Pero\, ¿sabías que este es un oxímoron que desvirtúa la verdadera esencia del Lenormand? \nEn mi último blog\, desglosamos cómo surgió esta confusión y exploramos las diferencias fundamentales entre el Tarot y el Lenormand. Aprende por qué es crucial respetar la autenticidad de cada sistema para mejorar tus prácticas de lectura y evitar malentendidos. \n✨ ¿Te gustaría descubrir más? No te pierdas este análisis detallado que te ayudará a profundizar en ambos sistemas y sacarles el máximo provecho.
URL:https://lizfigueroalenormand.com/event/nuevo-blog-tarot-y-lenormand-son-realmente-lo-mismo/
CATEGORIES:Blog Esoterico,Informacion General,Informacion Lenormand
ATTACH;FMTTYPE=image/jpeg:https://lizfigueroalenormand.com/wp-content/uploads/2024/08/BLOGS-Derechos-Reservados-@Liz-Figueroa-Lenormand-2024-13.jpg
END:VEVENT
BEGIN:VEVENT
DTSTART;TZID=America/Chicago:20240818T080000
DTEND;TZID=America/Chicago:20240818T170000
DTSTAMP:20260423T163638
CREATED:20240816T001546Z
LAST-MODIFIED:20240816T001546Z
UID:3769-1723968000-1724000400@lizfigueroalenormand.com
SUMMARY:Proximo Blog:  Cartas Adicionales del Gilded Reverie Lenormand de Ciro Marchetti.
DESCRIPTION:🌟 Descubre el Poder del Lenormand Extendido 🌟 \n¿Sabías que el mazo Lenormand tiene una versión extendida que incluye cartas adicionales llenas de simbolismo y profundidad? En mi último blog\, te invito a explorar cómo estas cartas\, diseñadas por Ciro Marchetti\, pueden transformar y enriquecer tus lecturas. Desde El Puente hasta El Laberinto\, descubre el significado de cada una y cómo integrarlas en tus tiradas para obtener una visión más completa y detallada. \n✨ No te pierdas esta oportunidad de profundizar en tu práctica del Lenormand y llevar tus lecturas al siguiente nivel.
URL:https://lizfigueroalenormand.com/event/proximo-blog-cartas-adicionales-del-gilded-reverie-lenormand-de-ciro-marchetti/
CATEGORIES:Blog Esoterico,Cartas Lenormand,Informacion General,Informacion Lenormand
ATTACH;FMTTYPE=image/jpeg:https://lizfigueroalenormand.com/wp-content/uploads/2024/08/BLOGS-Derechos-Reservados-@Liz-Figueroa-Lenormand-2024-10.jpg
END:VEVENT
END:VCALENDAR