BEGIN:VCALENDAR
VERSION:2.0
PRODID:-//Liz Figueroa Lenormand - ECPv6.15.20//NONSGML v1.0//EN
CALSCALE:GREGORIAN
METHOD:PUBLISH
X-ORIGINAL-URL:https://lizfigueroalenormand.com
X-WR-CALDESC:Events for Liz Figueroa Lenormand
REFRESH-INTERVAL;VALUE=DURATION:PT1H
X-Robots-Tag:noindex
X-PUBLISHED-TTL:PT1H
BEGIN:VTIMEZONE
TZID:America/Chicago
BEGIN:DAYLIGHT
TZOFFSETFROM:-0600
TZOFFSETTO:-0500
TZNAME:CDT
DTSTART:20220313T080000
END:DAYLIGHT
BEGIN:STANDARD
TZOFFSETFROM:-0500
TZOFFSETTO:-0600
TZNAME:CST
DTSTART:20221106T070000
END:STANDARD
BEGIN:DAYLIGHT
TZOFFSETFROM:-0600
TZOFFSETTO:-0500
TZNAME:CDT
DTSTART:20230312T080000
END:DAYLIGHT
BEGIN:STANDARD
TZOFFSETFROM:-0500
TZOFFSETTO:-0600
TZNAME:CST
DTSTART:20231105T070000
END:STANDARD
BEGIN:DAYLIGHT
TZOFFSETFROM:-0600
TZOFFSETTO:-0500
TZNAME:CDT
DTSTART:20240310T080000
END:DAYLIGHT
BEGIN:STANDARD
TZOFFSETFROM:-0500
TZOFFSETTO:-0600
TZNAME:CST
DTSTART:20241103T070000
END:STANDARD
END:VTIMEZONE
BEGIN:VEVENT
DTSTART;TZID=America/Chicago:20230520T130000
DTEND;TZID=America/Chicago:20230520T140000
DTSTAMP:20260423T231040
CREATED:20230520T190047Z
LAST-MODIFIED:20230505T013806Z
UID:3073-1684587600-1684591200@lizfigueroalenormand.com
SUMMARY:Congreso Lenormand Internacional- Argentina 2023
DESCRIPTION:¡Noticias emocionantes! ¡El primer Congreso Internacional del Oráculo Lenormand está a la vuelta de la esquina! ¡El promotor Charlie Ripoli\, está trabajando arduamente para dar vida a este evento mágico\, y lo mejor de todo? ¡Es completamente en línea y completamente gratis! Se ha confirmado a algunos oradores increíbles que son grandes nombres en la comunidad de Lenormand\, y también se abrira la oportunidad para que nuevas caras puedan contribuir a la conferencia a través de ponencias. \nEsta ponencia empezara a las 1600 hrs de Argentina (1300 hrs USA) \nAdemás\, habrá premios y descuentos en sesiones y talleres de Lenormand.   Se transmitirá en el canal de YouTube Cafe Tarot con Charly Ripoli
URL:https://lizfigueroalenormand.com/event/congreso-lenormand-internacional-argentina-2023/
LOCATION:Online\, United States
CATEGORIES:Eventos Especiales,Informacion General
ATTACH;FMTTYPE=image/jpeg:https://lizfigueroalenormand.com/wp-content/uploads/2023/02/YouTube-Thumbnail-1.jpg
END:VEVENT
END:VCALENDAR