BEGIN:VCALENDAR
VERSION:2.0
PRODID:-//Liz Figueroa Lenormand - ECPv6.15.20//NONSGML v1.0//EN
CALSCALE:GREGORIAN
METHOD:PUBLISH
X-ORIGINAL-URL:https://lizfigueroalenormand.com
X-WR-CALDESC:Events for Liz Figueroa Lenormand
REFRESH-INTERVAL;VALUE=DURATION:PT1H
X-Robots-Tag:noindex
X-PUBLISHED-TTL:PT1H
BEGIN:VTIMEZONE
TZID:America/Chicago
BEGIN:DAYLIGHT
TZOFFSETFROM:-0600
TZOFFSETTO:-0500
TZNAME:CDT
DTSTART:20220313T080000
END:DAYLIGHT
BEGIN:STANDARD
TZOFFSETFROM:-0500
TZOFFSETTO:-0600
TZNAME:CST
DTSTART:20221106T070000
END:STANDARD
BEGIN:DAYLIGHT
TZOFFSETFROM:-0600
TZOFFSETTO:-0500
TZNAME:CDT
DTSTART:20230312T080000
END:DAYLIGHT
BEGIN:STANDARD
TZOFFSETFROM:-0500
TZOFFSETTO:-0600
TZNAME:CST
DTSTART:20231105T070000
END:STANDARD
BEGIN:DAYLIGHT
TZOFFSETFROM:-0600
TZOFFSETTO:-0500
TZNAME:CDT
DTSTART:20240310T080000
END:DAYLIGHT
BEGIN:STANDARD
TZOFFSETFROM:-0500
TZOFFSETTO:-0600
TZNAME:CST
DTSTART:20241103T070000
END:STANDARD
BEGIN:DAYLIGHT
TZOFFSETFROM:-0600
TZOFFSETTO:-0500
TZNAME:CDT
DTSTART:20250309T080000
END:DAYLIGHT
BEGIN:STANDARD
TZOFFSETFROM:-0500
TZOFFSETTO:-0600
TZNAME:CST
DTSTART:20251102T070000
END:STANDARD
BEGIN:DAYLIGHT
TZOFFSETFROM:-0600
TZOFFSETTO:-0500
TZNAME:CDT
DTSTART:20260308T080000
END:DAYLIGHT
BEGIN:STANDARD
TZOFFSETFROM:-0500
TZOFFSETTO:-0600
TZNAME:CST
DTSTART:20261101T070000
END:STANDARD
END:VTIMEZONE
BEGIN:VEVENT
DTSTART;VALUE=DATE:20250106
DTEND;VALUE=DATE:20250107
DTSTAMP:20260423T211414
CREATED:20250103T235143Z
LAST-MODIFIED:20250103T235143Z
UID:3953-1736121600-1736207999@lizfigueroalenormand.com
SUMMARY:Lanzamiento Libro "Cartas Negativas Oráculo Lenormand: Desafíos\, Enseñanzas y Nuevas Perspectivas
DESCRIPTION:🎉 ¡Gran Noticia para el 2025! 🎉\n¡Arrancamos el año con el lanzamiento de mi primer libro:\n📚 “Cartas Negativas del Oráculo Lenormand: Desafíos\, Enseñanzas y Nuevas Perspectivas” 📚 \nUn libro compacto pero repleto de información esencial para dominar las cartas negativas del Lenormand. En sus 132 páginas (tamaño 6×9)\, exploraremos sus significados tradicionales\, mitos\, combinaciones\, y mucho más. ¡Todo lo que necesitas para convertirte en un experto! 💡✨ \n🗓 Disponible desde el 6 de enero de 2025 en Amazon.com.\n🎯 Este es solo el primero de varios proyectos emocionantes por venir este año. \n¡No te lo pierdas y prepárate para llevar tus lecturas al siguiente nivel! 🔮✨ \n#Lenormand #Cartomancia #NuevoLanzamiento #LenormandEnEspanol #CartasNegativas #DesafiosLenormand #AmazonBooks
URL:https://lizfigueroalenormand.com/event/lanzamiento-libro-cartas-negativas-oraculo-lenormand-desafios-ensenanzas-y-nuevas-perspectivas/
LOCATION:Online\, United States
CATEGORIES:Eventos Especiales,Informacion Lenormand,Libros de Lenormand
ATTACH;FMTTYPE=image/jpeg:https://lizfigueroalenormand.com/wp-content/uploads/2025/01/Elegant-Floral-Woman-Book-Mockup-Instagram-Post.jpg
END:VEVENT
BEGIN:VEVENT
DTSTART;TZID=America/Chicago:20240907T080000
DTEND;TZID=America/Chicago:20240907T110000
DTSTAMP:20260423T211414
CREATED:20240727T171855Z
LAST-MODIFIED:20240819T132311Z
UID:3708-1725696000-1725706800@lizfigueroalenormand.com
SUMMARY:Webinar Lenormand Basico Nivel 1-2024: Comienzo el 7 de Septiembre de 2024
DESCRIPTION:Estoy emocionada de anunciar el próximo Webinar Lenormand Básico Nivel 1-2024\, que comenzará el sábado 7 de septiembre de 2024. Este curso está diseñado para enseñarte las técnicas básicas de lectura de cartas Lenormand\, incluyendo lecturas de 2\, 3\, 5 y 9 cartas\, cómo formular preguntas efectivas\, cómo conectarte con las cartas durante la lectura y técnicas para determinar el tiempo con Lenormand. \nEl webinar consta de 4 videos tutoriales\, cada uno con una duración de 2.40 horas\, sumando un total de 10.6 horas de contenido tutorial. Además\, recibirás 4 PDFs de apoyo por cada video tutorial y 4 PDFs de actividades y ejercicios\, para reforzar tu aprendizaje. \nLa duración total del webinar es de 30 días\, y utilizaremos las plataformas de Zoom\, Telegram y Google Classroom para nuestras sesiones y actividades. Esto te permitirá tener una experiencia de aprendizaje interactiva y accesible. \nSi estás interesado en obtener más información o deseas inscribirte en este webinar\, no dudes en contactarme a mi email: lizfigueroa2012@gmail.com   lizfigueroa2012@gmail.com. \n¡Nos veremos el sábado 7 de septiembre de 2024! \nBendiciones\, \nLiz Figueroa\nInstructora de Lenormand
URL:https://lizfigueroalenormand.com/event/webinar-lenormand-basico-nivel-1-2024-comienzo-el-7-de-septiembre-de-2024/
CATEGORIES:Eventos Especiales,Informacion Lenormand,Webinar
ATTACH;FMTTYPE=image/png:https://lizfigueroalenormand.com/wp-content/uploads/2024/07/Calendario-Septiembre-Webinar-Lenormand-Basico-.png
END:VEVENT
BEGIN:VEVENT
DTSTART;TZID=America/Chicago:20240717T153000
DTEND;TZID=America/Chicago:20240717T163000
DTSTAMP:20260423T211414
CREATED:20240715T015500Z
LAST-MODIFIED:20240715T015500Z
UID:3683-1721230200-1721233800@lizfigueroalenormand.com
SUMMARY:Predicciones Globales con Lenormand: Practicas de Lecturas
DESCRIPTION:Este miercoles 17 Julio\, nos reuniremos via Zoom para hacer lecturas predictivas sobre paises de interes. Veremos el aspecto Geopolitico y Catastrofes Naturales. \nEl enlace Zoom\, sera dado via Telegram. Esta practica sera grabada y luego subida a Youtube. Paises a discutir\, Japon\, Rusia\, Alemania\, Espana\, Brazil\, Antillas\, Zona Oeste de USA. \nHoras:\n3:30 pm USA\n4:30 PM Chile-Mexico\n5:30 PM Argentina\n10:30 PM Espana. \nMe gustaria que haya una interaccion con ustedes durante las lecturas\, por tanto se exhorta el que expresen sus opiniones en forma verbal\, para que su opinion quede grabada. \nLos Espero!\nLiz
URL:https://lizfigueroalenormand.com/event/predicciones-globales-con-lenormand-practicas-de-lecturas/
LOCATION:Zoom Event\, WI\, United States
CATEGORIES:Eventos Especiales,Lecturas Lenormand,Tiradas de Lenormand
ATTACH;FMTTYPE=image/jpeg:https://lizfigueroalenormand.com/wp-content/uploads/2024/07/Instagram-Carrusel-.jpg
END:VEVENT
BEGIN:VEVENT
DTSTART;TZID=America/Chicago:20240321T163000
DTEND;TZID=America/Chicago:20240321T170000
DTSTAMP:20260423T211414
CREATED:20240227T154304Z
LAST-MODIFIED:20240227T154702Z
UID:3544-1711038600-1711040400@lizfigueroalenormand.com
SUMMARY:Encuentro Esoterico con el Prof. Dr. Danilo Llanes: Descubriendo los Misterios del Lenormand Mistico
DESCRIPTION:🌟 Liz Figueroa presenta un Evento Especial 🌟 \n“Descubriendo los Misterios del Lenormand Místico” \ncon el Profesor Dr. Danilo Llanes\, cartomante profesional y experto en el oráculo Lenormand Místico con 25 años de experiencia. \n🗓 Jueves 21 de Marzo | ⏰ 6:30 PM (Uruguay) 4:30pm USA \nCanal YouTube Liz Figueroa Lenormand \nNo te pierdas esta oportunidad única de explorar el mundo esotérico y descubrir los secretos que las cartas del Lenormand Místico tienen para ti. \n🔮 #LenormandMístico #Cartomancia #Esoterismo #MisteriosDelLenormand #EventoEsotérico #LizFigueroa #DaniloLlanes #TarotUruguay
URL:https://lizfigueroalenormand.com/event/encuentro-esoterico-con-el-prof-dr-danilo-llanes-descubriendo-los-misterios-del-lenormand-mistico/
LOCATION:Zoom Event\, WI\, United States
CATEGORIES:Eventos Especiales,Informacion Lenormand
ATTACH;FMTTYPE=image/jpeg:https://lizfigueroalenormand.com/wp-content/uploads/2024/02/IMG_20240226_110758_898.jpg
END:VEVENT
BEGIN:VEVENT
DTSTART;TZID=America/Chicago:20231118T090000
DTEND;TZID=America/Chicago:20231118T110000
DTSTAMP:20260423T211414
CREATED:20231108T014356Z
LAST-MODIFIED:20231108T015846Z
UID:3383-1700298000-1700305200@lizfigueroalenormand.com
SUMMARY:WEBINAR EXCLUSIVO: Lenormand Experimental: "La Predicción de Eventos Globales a través del Gran Tablero"
DESCRIPTION:¡Prepárate para expandir tus horizontes con el Oráculo Lenormand! En este seminario web único\, exploraremos cómo la ancestral sabiduría del Lenormand puede ser aplicada a la comprensión de eventos a gran escala. Únete a Maestra Liz Figueroa en una jornada de aprendizaje profundo y descubrimiento. \n🗓 Fecha: Sábado\, 18 de Noviembre\n⏰ Hora: 09:00 AM CST\n📌 Duración: Aproximadamente 2 horas\n🌐 Plataforma: Zoom: https://us02web.zoom.us/j/82532051473  https://us02web.zoom.us/j/82532051473 \nObjetivos del seminario: \n\n\n\n\n\n\n\n\n\n\n\n\n\nEntender los Paralelismos: Descubre la conexión íntima entre Adivinación y Predicción\, y cómo estas prácticas milenarias siguen siendo relevantes en nuestra comprensión del mundo contemporáneo.\nCalificación de Eventos Globales: Aprenderás a interpretar y calificar eventos de magnitud global\, utilizando técnicas específicas para una lectura efectiva.\nCodificación Especial para el Lenormand: Adéntrate en sistemas de codificación únicos diseñados para enriquecer tus lecturas del Lenormand\, elevando tu práctica divinatoria a nuevos niveles.\nNavegación del Gran Tablero: Navega por el Gran Tablero de Lenormand en el contexto de eventos globales\, adquiriendo habilidades para leer los signos de los tiempos en el tapiz de la historia humana.\n\n🔮 Únete a esta experiencia transformadora y mira más allá del velo del presente hacia las posibilidades infinitas del mañana. \n#LenormandGlobal #OraculoMundial #MaestraLizWebinar #GranTableroLenormand #PrediccionGlobal #LenormandExperimental \n\nEste anuncio tiene como objetivo no solo informar sino también intrigar y atraer a aquellos interesados en las dimensiones más profundas y globales del arte de la cartomancia con el Oráculo Lenormand. \n\n\n\n\n\n\n\n\n 
URL:https://lizfigueroalenormand.com/event/webinar-exclusivo-lenormand-experimental-la-prediccion-de-eventos-globales-a-traves-del-gran-tablero/
LOCATION:Online\, United States
CATEGORIES:Eventos Especiales,Webinar
ATTACH;FMTTYPE=image/jpeg:https://lizfigueroalenormand.com/wp-content/uploads/2023/11/WEBINAR-Prediccion-Eventos-Globales-con-el-GT-6.jpg
END:VEVENT
BEGIN:VEVENT
DTSTART;TZID=America/Chicago:20231108T160000
DTEND;TZID=America/Chicago:20231108T170000
DTSTAMP:20260423T211414
CREATED:20231108T012048Z
LAST-MODIFIED:20231108T013428Z
UID:3364-1699459200-1699462800@lizfigueroalenormand.com
SUMMARY:¡Evento Especial en Vivo: Lectura Experimental: Argentina a través del Gran Tablero Lenormand!
DESCRIPTION:¡Acompáñame\, en una travesía espiritual sin precedentes! Este 8 Noviembre 2023 a las 4:00 pm CST\, conectaré el pulso esotérico de Argentina con el ancestral arte de la cartomancia en una Lectura Experimental de Gran Tablero Lenormand\, transmitida en vivo a través de YouTube y Zoom. \nSumérgete conmigo en las vibraciones del país del tango y la pampa mientras desentrañamos juntos los misterios que las cartas revelan sobre su pasado\, presente y futuro. Cada símbolo y figura en nuestra lectura será una puerta abierta a la sabiduría y las energías que fluyen desde el corazón de Argentina. \nDetalles del Evento: \n¿Dónde? YouTube\n \nYouTube: Liz Figueroa Lenormand – YouTube \n ¿Cuándo? Miercoles 8 Noviembre 2023 a las 4:00 pm CST \nConecta conmigo: \nPrepárate para una sesión llena de intuición y descubrimientos. \nParticipa en un diálogo abierto y enriquecedor durante la sesión. \nDescubre las fascinantes correlaciones entre las cartas y la rica tapestry cultural argentina. \n¡No te pierdas esta única Lectura Experimental de Gran Tablero! \n#LenormandArgentina #GranTableroEnVivo #MisticismoArgentino #CartomanciaLenormand #lizfigueroalenormand 
URL:https://lizfigueroalenormand.com/event/evento-especial-en-vivo-exploracion-de-argentina-a-traves-del-gran-tablero-lenormand/
LOCATION:Online\, United States
CATEGORIES:Eventos Especiales,Informacion Lenormand
END:VEVENT
BEGIN:VEVENT
DTSTART;TZID=America/Chicago:20231029T170000
DTEND;TZID=America/Chicago:20231029T180000
DTSTAMP:20260423T211414
CREATED:20230831T005710Z
LAST-MODIFIED:20230831T005710Z
UID:3311-1698598800-1698602400@lizfigueroalenormand.com
SUMMARY:Congreso Internacional de Mediumnidad
DESCRIPTION:Este otoño\, el Congreso Internacional de Mediumnidad se complace en presentar una ponencia única y reveladora: “Mediumnidad a través del Lenormand”\, dirigida por Liz Figueroa\, Maestra del Oráculo Lenormand y experta en diseño digital. ¿Estás listo para explorar cómo las cartas Lenormand pueden enriquecer tu práctica de la mediumnidad? ¡Entonces esta sesión es para ti! \nObjetivos de la Ponencia:\n\nExploración entre la Mediumnidad y el Lenormand:\n\n\nObjetivo 1.1: ¿Alguna vez te has preguntado cómo las cartas Lenormand podrían complementar tu trabajo como médium? Introduciremos la conexión simbiótica entre estas dos artes espirituales\, mostrando cómo pueden realzar y validar una a la otra.\n\n\nDefinición de Mediumnidad Evidencial:\n\n\nObjetivo 2.1: En el vasto campo de la mediumnidad\, el enfoque evidencial se destaca por su rigor y autenticidad. Proporcionaremos una definición clara de qué es la mediumnidad evidencial y cómo se centra en identificar y validar la presencia de espíritus.\n\n\nProtocolos de Mediumnidad Evidencial:\n\n\nObjetivo 2.2: Profundizaremos en los elementos fundamentales de la mediumnidad evidencial\, desde la identificación de género y descripción de personaje hasta cómo entregar mensajes de manera ética y empática.\n\n\nFormatos de Tiradas Prácticas:\n\n\nObjetivo 4.1: No todas las tiradas de cartas son iguales\, especialmente cuando se trata de mediumnidad. Presentaremos distintos formatos de tiradas Lenormand\, adaptados específicamente para la práctica de la mediumnidad evidencial.\n\nSi te apasionan tanto las cartas como el mundo espiritual\, no querrás perderte esta ponencia. Uniremos dos universos aparentemente distintos pero intrínsecamente conectados para abrir puertas a nuevas posibilidades en tu práctica espiritual. \nTe esperamos en octubre en el Congreso Internacional de Mediumnidad para una exploración profunda e inspiradora. ¡Trae tu mazo de Lenormand y una mente abierta!
URL:https://lizfigueroalenormand.com/event/congreso-internacional-de-mediumnidad/
LOCATION:Online\, United States
CATEGORIES:Congreso Esotericos,Eventos Especiales,Informacion Espiritual,Mediumnidad
ATTACH;FMTTYPE=image/jpeg:https://lizfigueroalenormand.com/wp-content/uploads/2023/08/Congreso-Mediumnidad-e1693443120557.jpg
END:VEVENT
BEGIN:VEVENT
DTSTART;TZID=America/Chicago:20231020T170000
DTEND;TZID=America/Chicago:20231020T180000
DTSTAMP:20260423T211414
CREATED:20230625T031444Z
LAST-MODIFIED:20230831T004647Z
UID:3278-1697821200-1697824800@lizfigueroalenormand.com
SUMMARY:Congreso Tarot de Uruguay: Diseño de Cartas Adivinatorias
DESCRIPTION:¿Alguna vez has querido diseñar tu propio mazo de cartas divinatorias\, pero no sabes por dónde empezar? ¿O tal vez ya tienes experiencia en diseño\, pero buscas profundizar en el enigmático arte de la cartomancia? Si te sientes identificado\, te invitamos a unirte a Liz Figueroa\, experta en diseño digital y Maestra del Oráculo Lenormand\, en su fascinante ponencia: “Diseñar tus Cartas Adivinatorias”. \nObjetivos de la Ponencia:\n\nAprender los Fundamentos del Diseño de Cartas Divinatorias: Sumérgete en la rica historia y los principios básicos del diseño de cartas adivinatorias. Conoce cómo diferentes culturas y tradiciones han influido en lo que conocemos hoy.\nComprender los Elementos Clave del Diseño: Descubre qué hace que un mazo sea no solo hermoso\, sino también funcional y fácil de interpretar. Hablaremos sobre simbolismo\, paletas de colores\, tipografía y más.\nExploración de Diferentes Temas y Estilos para Crear Mazos Únicos: ¿Te gustan los estilos más tradicionales o prefieres algo más moderno? Te ayudaremos a encontrar tu propio estilo\, mostrándote una variedad de temáticas y enfoques que puedes aplicar en tus creaciones.\nAplicar Técnicas de Diseño Efectivas para Crear Cartas Claras\, Intuitivas y Atractivas Visualmente: Aprende trucos del oficio para que tus cartas no solo se vean bien\, sino que también faciliten la interpretación intuitiva.\n\nÚnete a nosotros este octubre en el Congreso Internacional de Tarot de Uruguay para una jornada de aprendizaje creativo e inspirador. ¡Este taller está diseñado para asistentes de todos los niveles\, así que trae tu curiosidad y tus preguntas!
URL:https://lizfigueroalenormand.com/event/congreso-tarot-de-uruguay/
LOCATION:Online\, United States
CATEGORIES:Congreso Esotericos,Eventos Especiales
ATTACH;FMTTYPE=image/jpeg:https://lizfigueroalenormand.com/wp-content/uploads/2023/06/Diseno-de-Cartas-Divinatorias-1.jpg
END:VEVENT
BEGIN:VEVENT
DTSTART;TZID=America/Chicago:20230520T130000
DTEND;TZID=America/Chicago:20230520T140000
DTSTAMP:20260423T211414
CREATED:20230520T190047Z
LAST-MODIFIED:20230505T013806Z
UID:3073-1684587600-1684591200@lizfigueroalenormand.com
SUMMARY:Congreso Lenormand Internacional- Argentina 2023
DESCRIPTION:¡Noticias emocionantes! ¡El primer Congreso Internacional del Oráculo Lenormand está a la vuelta de la esquina! ¡El promotor Charlie Ripoli\, está trabajando arduamente para dar vida a este evento mágico\, y lo mejor de todo? ¡Es completamente en línea y completamente gratis! Se ha confirmado a algunos oradores increíbles que son grandes nombres en la comunidad de Lenormand\, y también se abrira la oportunidad para que nuevas caras puedan contribuir a la conferencia a través de ponencias. \nEsta ponencia empezara a las 1600 hrs de Argentina (1300 hrs USA) \nAdemás\, habrá premios y descuentos en sesiones y talleres de Lenormand.   Se transmitirá en el canal de YouTube Cafe Tarot con Charly Ripoli
URL:https://lizfigueroalenormand.com/event/congreso-lenormand-internacional-argentina-2023/
LOCATION:Online\, United States
CATEGORIES:Eventos Especiales,Informacion General
ATTACH;FMTTYPE=image/jpeg:https://lizfigueroalenormand.com/wp-content/uploads/2023/02/YouTube-Thumbnail-1.jpg
END:VEVENT
END:VCALENDAR